BEGIN:VCALENDAR
VERSION:2.0
PRODID:-//SOULFOXX - ECPv6.15.20//NONSGML v1.0//EN
CALSCALE:GREGORIAN
METHOD:PUBLISH
X-WR-CALNAME:SOULFOXX
X-ORIGINAL-URL:https://soulfoxx.band
X-WR-CALDESC:Veranstaltungen für SOULFOXX
REFRESH-INTERVAL;VALUE=DURATION:PT1H
X-Robots-Tag:noindex
X-PUBLISHED-TTL:PT1H
BEGIN:VTIMEZONE
TZID:Europe/Berlin
BEGIN:DAYLIGHT
TZOFFSETFROM:+0100
TZOFFSETTO:+0200
TZNAME:CEST
DTSTART:20250330T010000
END:DAYLIGHT
BEGIN:STANDARD
TZOFFSETFROM:+0200
TZOFFSETTO:+0100
TZNAME:CET
DTSTART:20251026T010000
END:STANDARD
BEGIN:DAYLIGHT
TZOFFSETFROM:+0100
TZOFFSETTO:+0200
TZNAME:CEST
DTSTART:20260329T010000
END:DAYLIGHT
BEGIN:STANDARD
TZOFFSETFROM:+0200
TZOFFSETTO:+0100
TZNAME:CET
DTSTART:20261025T010000
END:STANDARD
BEGIN:DAYLIGHT
TZOFFSETFROM:+0100
TZOFFSETTO:+0200
TZNAME:CEST
DTSTART:20270328T010000
END:DAYLIGHT
BEGIN:STANDARD
TZOFFSETFROM:+0200
TZOFFSETTO:+0100
TZNAME:CET
DTSTART:20271031T010000
END:STANDARD
END:VTIMEZONE
BEGIN:VEVENT
DTSTART;VALUE=DATE:20260501
DTEND;VALUE=DATE:20260502
DTSTAMP:20260420T034308
CREATED:20260114T175142Z
LAST-MODIFIED:20260114T180157Z
UID:1316-1777593600-1777679999@soulfoxx.band
SUMMARY:Maifest - Warendorf (Privat)
DESCRIPTION:
URL:https://soulfoxx.band/konzert/maifest-privat/
END:VEVENT
BEGIN:VEVENT
DTSTART;VALUE=DATE:20260530
DTEND;VALUE=DATE:20260531
DTSTAMP:20260420T034308
CREATED:20251101T142918Z
LAST-MODIFIED:20260114T180143Z
UID:1313-1780099200-1780185599@soulfoxx.band
SUMMARY:Geburtstag - Coesfeld (Privat)
DESCRIPTION:
URL:https://soulfoxx.band/konzert/private-feier-7/
END:VEVENT
BEGIN:VEVENT
DTSTART;VALUE=DATE:20260620
DTEND;VALUE=DATE:20260621
DTSTAMP:20260420T034308
CREATED:20251101T142720Z
LAST-MODIFIED:20260114T180128Z
UID:1311-1781913600-1781999999@soulfoxx.band
SUMMARY:Wohnzimmerkonzert - Siegburg (Privat)
DESCRIPTION:
URL:https://soulfoxx.band/konzert/private-feier-6/
END:VEVENT
BEGIN:VEVENT
DTSTART;VALUE=DATE:20260621
DTEND;VALUE=DATE:20260622
DTSTAMP:20260420T034308
CREATED:20260114T180055Z
LAST-MODIFIED:20260114T180055Z
UID:1326-1782000000-1782086399@soulfoxx.band
SUMMARY:Soul am Rhein - Bonn
DESCRIPTION:weitere Infos folgen…
URL:https://soulfoxx.band/konzert/soul-am-rhein-bonn/
END:VEVENT
BEGIN:VEVENT
DTSTART;TZID=Europe/Berlin:20260627T160000
DTEND;TZID=Europe/Berlin:20260627T200000
DTSTAMP:20260420T034308
CREATED:20260114T175627Z
LAST-MODIFIED:20260114T175627Z
UID:1322-1782576000-1782590400@soulfoxx.band
SUMMARY:Emsdettener Weinfest
DESCRIPTION:weitere Infos folgen…
URL:https://soulfoxx.band/konzert/emsdettener-weinfest/
END:VEVENT
BEGIN:VEVENT
DTSTART;VALUE=DATE:20260705
DTEND;VALUE=DATE:20260706
DTSTAMP:20260420T034308
CREATED:20260114T175806Z
LAST-MODIFIED:20260114T180114Z
UID:1324-1783209600-1783295999@soulfoxx.band
SUMMARY:150-Jahre Geburtstagsfeier - Handorf (Privat)
DESCRIPTION:
URL:https://soulfoxx.band/konzert/150-jahre-geburtstagsfeier-handorf-privat/
END:VEVENT
END:VCALENDAR